BEGIN:VCALENDAR
VERSION:2.0
PRODID:icalendar-ruby
CALSCALE:GREGORIAN
METHOD:PUBLISH
BEGIN:VEVENT
DTSTAMP:20260423T114211Z
UID:55-217394@thecross.life
DTSTART:20260621T150000Z
DTEND:20260621T170000Z
CLASS:PUBLIC
CREATED:20260420T141105
DESCRIPTION:
LAST-MODIFIED:20260420T141105
LOCATION:
SUMMARY:Father's Day
URL;VALUE=URI:https://www.thecross.life/events/fathers-day/2026-06-21
END:VEVENT
END:VCALENDAR
