BEGIN:VCALENDAR
VERSION:2.0
PRODID:icalendar-ruby
CALSCALE:GREGORIAN
METHOD:PUBLISH
BEGIN:VEVENT
DTSTAMP:20260423T114814Z
UID:57-217407@thecross.life
DTSTART:20260531T150000Z
DTEND:20260531T170000Z
CLASS:PUBLIC
CREATED:20260420T141803
DESCRIPTION:
LAST-MODIFIED:20260420T141803
LOCATION:
SUMMARY:Graduation Sunday/Family Day
URL;VALUE=URI:https://www.thecross.life/events/graduation-sunday-family-day
 /2026-05-31
END:VEVENT
END:VCALENDAR
