BEGIN:VCALENDAR
VERSION:2.0
PRODID:icalendar-ruby
CALSCALE:GREGORIAN
METHOD:PUBLISH
BEGIN:VEVENT
DTSTAMP:20260424T201943Z
UID:7-219658@thecross.life
DTSTART:20260927T150000Z
DTEND:20260927T163000Z
CLASS:PUBLIC
CREATED:20260424T130927
DESCRIPTION:
LAST-MODIFIED:20260424T130927
LOCATION:
SUMMARY:Sunday Worship 
URL;VALUE=URI:https://www.thecross.life/events/sunday-worship/2026-09-27
END:VEVENT
END:VCALENDAR
