BEGIN:VCALENDAR
VERSION:2.0
PRODID:icalendar-ruby
CALSCALE:GREGORIAN
METHOD:PUBLISH
BEGIN:VEVENT
DTSTAMP:20260424T221042Z
UID:7-219753@thecross.life
DTSTART:20261004T150000Z
DTEND:20261004T163000Z
CLASS:PUBLIC
CREATED:20260424T155703
DESCRIPTION:
LAST-MODIFIED:20260424T155703
LOCATION:
SUMMARY:Sunday Worship 
URL;VALUE=URI:https://www.thecross.life/events/sunday-worship/2026-10-04
END:VEVENT
END:VCALENDAR
