BEGIN:VCALENDAR
VERSION:2.0
PRODID:icalendar-ruby
CALSCALE:GREGORIAN
METHOD:PUBLISH
BEGIN:VEVENT
DTSTAMP:20260425T011641Z
UID:7-219849@thecross.life
DTSTART:20261018T150000Z
DTEND:20261018T163000Z
CLASS:PUBLIC
CREATED:20260424T184457
DESCRIPTION:
LAST-MODIFIED:20260424T184457
LOCATION:
SUMMARY:Sunday Worship 
URL;VALUE=URI:https://www.thecross.life/events/sunday-worship/2026-10-18
END:VEVENT
END:VCALENDAR
