BEGIN:VCALENDAR
VERSION:2.0
PRODID:icalendar-ruby
CALSCALE:GREGORIAN
METHOD:PUBLISH
BEGIN:VEVENT
DTSTAMP:20260425T024921Z
UID:7-219944@thecross.life
DTSTART:20261025T150000Z
DTEND:20261025T163000Z
CLASS:PUBLIC
CREATED:20260424T213429
DESCRIPTION:
LAST-MODIFIED:20260424T213429
LOCATION:
SUMMARY:Sunday Worship 
URL;VALUE=URI:https://www.thecross.life/events/sunday-worship/2026-10-25
END:VEVENT
END:VCALENDAR
