BEGIN:VCALENDAR
VERSION:2.0
PRODID:icalendar-ruby
CALSCALE:GREGORIAN
METHOD:PUBLISH
BEGIN:VEVENT
DTSTAMP:20260423T095958Z
UID:53-211170@thecross.life
DTSTART:20260502T150000Z
DTEND:20260502T170000Z
CLASS:PUBLIC
CREATED:20260409T105531
DESCRIPTION:
LAST-MODIFIED:20260409T105531
LOCATION:Holy Grounds Cafe
SUMMARY:Women's Brunch- NLPC Baby Shower
URL;VALUE=URI:https://www.thecross.life/events/womens-brunch-nlpc-baby-show
 er/2026-05-02
END:VEVENT
END:VCALENDAR
